BEGIN:VCALENDAR
VERSION:2.0
PRODID:-//5.44.111.181//NONSGML kigkonsult.se iCalcreator 2.20//
CALSCALE:GREGORIAN
METHOD:PUBLISH
X-WR-TIMEZONE:UTC
BEGIN:VEVENT
UID:event1686@HSG Schwalbach/Niederhöchstadt
DTSTAMP:20260422T103935Z
CATEGORIES:mC1 Trainingszeiten\, mC2 Trainingszeiten
DESCRIPTION:mC12-Mittwochstraining-WBH\nKategorie: mC1 Trainingszeiten\, mC
 2 Trainingszeiten\nICS-Link: https://sgsn-handball.de/index.php?option=com
 _jem&view=event&id=1686:mc12-mittwochstraining-wbh\n
DTSTART:20260311T180000Z
DTEND:20260311T193000Z
LOCATION:Westerbachhalle (WBH)\,Georg-Büchner-Straße 30\,65760 Eschborn
SUMMARY:mC12-Mittwochstraining-WBH
URL:https://sgsn-handball.de/index.php?option=com_jem&view=event&id=1686:mc
 12-mittwochstraining-wbh
END:VEVENT
END:VCALENDAR