BEGIN:VCALENDAR
VERSION:2.0
PRODID:-//5.44.111.181//NONSGML kigkonsult.se iCalcreator 2.20//
CALSCALE:GREGORIAN
METHOD:PUBLISH
X-WR-TIMEZONE:UTC
BEGIN:VEVENT
UID:event1838@HSG Schwalbach/Niederhöchstadt
DTSTAMP:20260422T103858Z
CATEGORIES:mB1 Trainingszeiten
DESCRIPTION:mB1-Mittwochstraining-WBH\nKategorie: mB1 Trainingszeiten\nICS-
 Link: https://sgsn-handball.de/index.php?option=com_jem&view=event&id=1838
 :mb1-mittwochstraining-wbh\n
DTSTART:20260311T193000Z
DTEND:20260311T213000Z
LOCATION:Westerbachhalle (WBH)\,Georg-Büchner-Straße 30\,65760 Eschborn
SUMMARY:mB1-Mittwochstraining-WBH
URL:https://sgsn-handball.de/index.php?option=com_jem&view=event&id=1838:mb
 1-mittwochstraining-wbh
END:VEVENT
END:VCALENDAR